BEGIN:VCALENDAR
VERSION:2.0
PRODID:-//Centre Culturel et Social Rotterdam - ECPv6.15.20//NONSGML v1.0//EN
CALSCALE:GREGORIAN
METHOD:PUBLISH
X-WR-CALNAME:Centre Culturel et Social Rotterdam
X-ORIGINAL-URL:https://centrerotterdam.org
X-WR-CALDESC:Évènements pour Centre Culturel et Social Rotterdam
REFRESH-INTERVAL;VALUE=DURATION:PT1H
X-Robots-Tag:noindex
X-PUBLISHED-TTL:PT1H
BEGIN:VTIMEZONE
TZID:Europe/Paris
BEGIN:DAYLIGHT
TZOFFSETFROM:+0100
TZOFFSETTO:+0200
TZNAME:CEST
DTSTART:20240331T010000
END:DAYLIGHT
BEGIN:STANDARD
TZOFFSETFROM:+0200
TZOFFSETTO:+0100
TZNAME:CET
DTSTART:20241027T010000
END:STANDARD
BEGIN:DAYLIGHT
TZOFFSETFROM:+0100
TZOFFSETTO:+0200
TZNAME:CEST
DTSTART:20250330T010000
END:DAYLIGHT
BEGIN:STANDARD
TZOFFSETFROM:+0200
TZOFFSETTO:+0100
TZNAME:CET
DTSTART:20251026T010000
END:STANDARD
BEGIN:DAYLIGHT
TZOFFSETFROM:+0100
TZOFFSETTO:+0200
TZNAME:CEST
DTSTART:20260329T010000
END:DAYLIGHT
BEGIN:STANDARD
TZOFFSETFROM:+0200
TZOFFSETTO:+0100
TZNAME:CET
DTSTART:20261025T010000
END:STANDARD
END:VTIMEZONE
BEGIN:VEVENT
DTSTART;TZID=Europe/Paris:20251020T074500
DTEND;TZID=Europe/Paris:20251031T181500
DTSTAMP:20260424T155608
CREATED:20250926T135558Z
LAST-MODIFIED:20251011T122924Z
UID:24274-1760946300-1761934500@centrerotterdam.org
SUMMARY:Vacances de la Toussaint
DESCRIPTION:Ces vacances de la Toussaint à l’Accueil de Loisirs\, la chair de poule sera assurée à travers un panel d’ateliers thématiques et festifs. Les petits diablotins fêteront Halloween\, mais s’adonneront aussi à des expériences fantastiques\, des jeux monstrueux\, des épouvantables bricolages\, du sport surnaturel\, et des virées culturelles étranges… 🎃🧟‍♂️👻🧛‍♂️ \nProgramme d’activités et inscriptions :\n\nFais-moi peur à Rotterdam… aux vacances de la Toussaint !
URL:https://centrerotterdam.org/evenement/vacances-de-la-toussaint-2025/
LOCATION:École Élémentaire du Conseil des Quinze\, 2 rue de Douai\, Strasbourg\, 67000\, France
ATTACH;FMTTYPE=image/jpeg:https://centrerotterdam.org/wp-content/uploads/2025/09/Vie-de-quartier-Photos-vacances-Toussaint.jpg
END:VEVENT
BEGIN:VEVENT
DTSTART;TZID=Europe/Paris:20251022T150000
DTEND;TZID=Europe/Paris:20251022T150000
DTSTAMP:20260424T155608
CREATED:20251002T104214Z
LAST-MODIFIED:20251007T125619Z
UID:24347-1761145200-1761145200@centrerotterdam.org
SUMMARY:Conférence "Le quartier Saint-Nicolas"
DESCRIPTION:INFORMATION IMPORTANTE DE L’UPK : \n« Nous regrettons de vous informer que l’état de santé de Jean-François Kovar\, notre président conférencier\, nécessite une interruption de la plupart de nos offres culturelles au moins jusqu’au 4 novembre 2025. \nNous vous tiendrons informés dès que nous en saurons plus.\nMerci pour votre compréhension » \n  \nConférence 🎤 Êtes-vous passionnés par l’histoire fascinante de notre belle ville et de ses quartiers strasbourgeois ? 🏙️🔍 \nDécouvrez les secrets du quai Saint-Nicolas le mercredi 22 octobre 2025 à 15h\, lors d’une conférence présentée par M. Kovar\, président le l’Université Populaire de la Krutenau. Rejoignez-nous pour cette découverte culturelle à la maison de retraite Saint Joseph\, au 9 rue d’Ypres à Strasbourg\, en salle au rez-de-chaussée. \n👉 L’événement est entièrement gratuit et ouvert à tous\n🚨 Dans la limite des places disponibles !\n🙋 Pensez à réserver votre place : centrerotterdam67@gmail.com \n\n[ ANNULÉE ] Conférence  » Le quartier Saint-Nicolas  » par l’UPK à Saint Jo’
URL:https://centrerotterdam.org/evenement/conference-quartier-saint-nicolas/
LOCATION:Maison de retraite Saint Joseph\, 9 rue d'Ypres\, Strasbourg\, 67000\, France
ATTACH;FMTTYPE=image/jpeg:https://centrerotterdam.org/wp-content/uploads/2025/10/Vie-de-quartier-Photo-Conference-UPK-Saint-Joseph.jpg
END:VEVENT
END:VCALENDAR