BEGIN:VCALENDAR
VERSION:2.0
PRODID:-//Centre Culturel et Social Rotterdam - ECPv6.15.20//NONSGML v1.0//EN
CALSCALE:GREGORIAN
METHOD:PUBLISH
X-ORIGINAL-URL:https://centrerotterdam.org
X-WR-CALDESC:Évènements pour Centre Culturel et Social Rotterdam
REFRESH-INTERVAL;VALUE=DURATION:PT1H
X-Robots-Tag:noindex
X-PUBLISHED-TTL:PT1H
BEGIN:VTIMEZONE
TZID:Europe/Paris
BEGIN:DAYLIGHT
TZOFFSETFROM:+0100
TZOFFSETTO:+0200
TZNAME:CEST
DTSTART:20240331T010000
END:DAYLIGHT
BEGIN:STANDARD
TZOFFSETFROM:+0200
TZOFFSETTO:+0100
TZNAME:CET
DTSTART:20241027T010000
END:STANDARD
BEGIN:DAYLIGHT
TZOFFSETFROM:+0100
TZOFFSETTO:+0200
TZNAME:CEST
DTSTART:20250330T010000
END:DAYLIGHT
BEGIN:STANDARD
TZOFFSETFROM:+0200
TZOFFSETTO:+0100
TZNAME:CET
DTSTART:20251026T010000
END:STANDARD
BEGIN:DAYLIGHT
TZOFFSETFROM:+0100
TZOFFSETTO:+0200
TZNAME:CEST
DTSTART:20260329T010000
END:DAYLIGHT
BEGIN:STANDARD
TZOFFSETFROM:+0200
TZOFFSETTO:+0100
TZNAME:CET
DTSTART:20261025T010000
END:STANDARD
END:VTIMEZONE
BEGIN:VEVENT
DTSTART;TZID=Europe/Paris:20251105T143000
DTEND;TZID=Europe/Paris:20251202T163000
DTSTAMP:20260424T144126
CREATED:20251015T150315Z
LAST-MODIFIED:20251015T151115Z
UID:24595-1762353000-1764693000@centrerotterdam.org
SUMMARY:Atelier seniors : sophrologie et gestion de la douleur
DESCRIPTION:Pour nos aînés\, plusieurs séances sont proposées afin de comprendre et gérer sa douleur\, puis de se relaxer grâce à la sophrologie. \nGratuit sur inscription\, dans la limite des places disponibles. \nℹ️ Toutes les informations :\n\nAtelier pour nos aînés : « Le bien-être par la sophrologie et la gestion de la douleur »
URL:https://centrerotterdam.org/evenement/atelier-seniors-sophrologie-gestion-de-la-douleur/
LOCATION:Maison de retraite Saint Joseph\, 9 rue d'Ypres\, Strasbourg\, 67000\, France
ATTACH;FMTTYPE=image/jpeg:https://centrerotterdam.org/wp-content/uploads/2025/10/Vie-de-quartier-Photo-Sophrologie.jpg
END:VEVENT
END:VCALENDAR