BEGIN:VCALENDAR
VERSION:2.0
PRODID:-//Centre Culturel et Social Rotterdam - ECPv6.15.20//NONSGML v1.0//EN
CALSCALE:GREGORIAN
METHOD:PUBLISH
X-WR-CALNAME:Centre Culturel et Social Rotterdam
X-ORIGINAL-URL:https://centrerotterdam.org
X-WR-CALDESC:Évènements pour Centre Culturel et Social Rotterdam
REFRESH-INTERVAL;VALUE=DURATION:PT1H
X-Robots-Tag:noindex
X-PUBLISHED-TTL:PT1H
BEGIN:VTIMEZONE
TZID:Europe/Paris
BEGIN:DAYLIGHT
TZOFFSETFROM:+0100
TZOFFSETTO:+0200
TZNAME:CEST
DTSTART:20240331T010000
END:DAYLIGHT
BEGIN:STANDARD
TZOFFSETFROM:+0200
TZOFFSETTO:+0100
TZNAME:CET
DTSTART:20241027T010000
END:STANDARD
BEGIN:DAYLIGHT
TZOFFSETFROM:+0100
TZOFFSETTO:+0200
TZNAME:CEST
DTSTART:20250330T010000
END:DAYLIGHT
BEGIN:STANDARD
TZOFFSETFROM:+0200
TZOFFSETTO:+0100
TZNAME:CET
DTSTART:20251026T010000
END:STANDARD
BEGIN:DAYLIGHT
TZOFFSETFROM:+0100
TZOFFSETTO:+0200
TZNAME:CEST
DTSTART:20260329T010000
END:DAYLIGHT
BEGIN:STANDARD
TZOFFSETFROM:+0200
TZOFFSETTO:+0100
TZNAME:CET
DTSTART:20261025T010000
END:STANDARD
END:VTIMEZONE
BEGIN:VEVENT
DTSTART;TZID=Europe/Paris:20251217T074500
DTEND;TZID=Europe/Paris:20251217T181500
DTSTAMP:20260424T133119
CREATED:20251002T102332Z
LAST-MODIFIED:20251120T190133Z
UID:24344-1765957500-1765995300@centrerotterdam.org
SUMMARY:Fête de Noël des enfants
DESCRIPTION:Une journée lumineuse et féérique pour bien finir l’année tous ensemble à l’Accueil de Loisirs ! ✨🎅🎄 Nos lutins accompagneront vos enfants dans un univers magique : jeux thématiques\, bricolages de Noël\, repas festif… et plein de surprises enchantées. 🪄 \nEn savoir plus : \n\nInvitation au repas de Noël de l’Accueil de Loisirs !
URL:https://centrerotterdam.org/evenement/fete-de-noel-des-enfants/
LOCATION:École Élémentaire du Conseil des Quinze\, 2 rue de Douai\, Strasbourg\, 67000\, France
ATTACH;FMTTYPE=image/jpeg:https://centrerotterdam.org/wp-content/uploads/2025/10/Vie-de-quartier-Photo-Fete-de-Noel-des-enfants.jpg
END:VEVENT
END:VCALENDAR