BEGIN:VCALENDAR
VERSION:2.0
PRODID:-//Centre Culturel et Social Rotterdam - ECPv6.15.20//NONSGML v1.0//EN
CALSCALE:GREGORIAN
METHOD:PUBLISH
X-ORIGINAL-URL:https://centrerotterdam.org
X-WR-CALDESC:Évènements pour Centre Culturel et Social Rotterdam
REFRESH-INTERVAL;VALUE=DURATION:PT1H
X-Robots-Tag:noindex
X-PUBLISHED-TTL:PT1H
BEGIN:VTIMEZONE
TZID:Europe/Paris
BEGIN:DAYLIGHT
TZOFFSETFROM:+0100
TZOFFSETTO:+0200
TZNAME:CEST
DTSTART:20240331T010000
END:DAYLIGHT
BEGIN:STANDARD
TZOFFSETFROM:+0200
TZOFFSETTO:+0100
TZNAME:CET
DTSTART:20241027T010000
END:STANDARD
BEGIN:DAYLIGHT
TZOFFSETFROM:+0100
TZOFFSETTO:+0200
TZNAME:CEST
DTSTART:20250330T010000
END:DAYLIGHT
BEGIN:STANDARD
TZOFFSETFROM:+0200
TZOFFSETTO:+0100
TZNAME:CET
DTSTART:20251026T010000
END:STANDARD
BEGIN:DAYLIGHT
TZOFFSETFROM:+0100
TZOFFSETTO:+0200
TZNAME:CEST
DTSTART:20260329T010000
END:DAYLIGHT
BEGIN:STANDARD
TZOFFSETFROM:+0200
TZOFFSETTO:+0100
TZNAME:CET
DTSTART:20261025T010000
END:STANDARD
BEGIN:DAYLIGHT
TZOFFSETFROM:+0100
TZOFFSETTO:+0200
TZNAME:CEST
DTSTART:20270328T010000
END:DAYLIGHT
BEGIN:STANDARD
TZOFFSETFROM:+0200
TZOFFSETTO:+0100
TZNAME:CET
DTSTART:20271031T010000
END:STANDARD
END:VTIMEZONE
BEGIN:VEVENT
DTSTART;VALUE=DATE:20251222
DTEND;VALUE=DATE:20260105
DTSTAMP:20260424T133416
CREATED:20250929T112829Z
LAST-MODIFIED:20250929T112829Z
UID:24305-1766361600-1767571199@centrerotterdam.org
SUMMARY:Vacances de Noël - Fermeture du CCSR
DESCRIPTION:Fermeture du CCSR durant les vacances de Noël\nNos équipes vous souhaitent de passer de merveilleuses fêtes de fin d’année 🎄✨🥳\, avec hâte de vous retrouver à partir du lundi 5 janvier 2026 !
URL:https://centrerotterdam.org/evenement/vacances-de-noel-2025/
ATTACH;FMTTYPE=image/jpeg:https://centrerotterdam.org/wp-content/uploads/2025/09/Vie-de-quartier-Photo-Vacances-de-Noel.jpg
END:VEVENT
END:VCALENDAR