BEGIN:VCALENDAR
VERSION:2.0
PRODID:-//Centre Culturel et Social Rotterdam - ECPv6.15.20//NONSGML v1.0//EN
CALSCALE:GREGORIAN
METHOD:PUBLISH
X-WR-CALNAME:Centre Culturel et Social Rotterdam
X-ORIGINAL-URL:https://centrerotterdam.org
X-WR-CALDESC:Évènements pour Centre Culturel et Social Rotterdam
REFRESH-INTERVAL;VALUE=DURATION:PT1H
X-Robots-Tag:noindex
X-PUBLISHED-TTL:PT1H
BEGIN:VTIMEZONE
TZID:Europe/Paris
BEGIN:DAYLIGHT
TZOFFSETFROM:+0100
TZOFFSETTO:+0200
TZNAME:CEST
DTSTART:20250330T010000
END:DAYLIGHT
BEGIN:STANDARD
TZOFFSETFROM:+0200
TZOFFSETTO:+0100
TZNAME:CET
DTSTART:20251026T010000
END:STANDARD
BEGIN:DAYLIGHT
TZOFFSETFROM:+0100
TZOFFSETTO:+0200
TZNAME:CEST
DTSTART:20260329T010000
END:DAYLIGHT
BEGIN:STANDARD
TZOFFSETFROM:+0200
TZOFFSETTO:+0100
TZNAME:CET
DTSTART:20261025T010000
END:STANDARD
BEGIN:DAYLIGHT
TZOFFSETFROM:+0100
TZOFFSETTO:+0200
TZNAME:CEST
DTSTART:20270328T010000
END:DAYLIGHT
BEGIN:STANDARD
TZOFFSETFROM:+0200
TZOFFSETTO:+0100
TZNAME:CET
DTSTART:20271031T010000
END:STANDARD
END:VTIMEZONE
BEGIN:VEVENT
DTSTART;TZID=Europe/Paris:20260216T074500
DTEND;TZID=Europe/Paris:20260227T181500
DTSTAMP:20260424T101249
CREATED:20250929T115124Z
LAST-MODIFIED:20260129T083826Z
UID:24308-1771227900-1772216100@centrerotterdam.org
SUMMARY:Vacances d'hiver
DESCRIPTION:L’Accueil de Loisirs se transformera en un lieu magique et épanouissant pour les enfants\, inspiré par la saison ☃️ : ateliers créatifs\, jeux de société\, bricolages\, cuisine\, animations thématiques\, grands jeux\, défis sportifs et sorties ! \nLe programme des vacances d’hiver :\n\nLégendes nordiques et aventures vikings cet hiver à L’accueil de Loisirs ! \n\n 
URL:https://centrerotterdam.org/evenement/vacances-hiver-2026/
LOCATION:École Élémentaire du Conseil des Quinze\, 2 rue de Douai\, Strasbourg\, 67000\, France
ATTACH;FMTTYPE=image/jpeg:https://centrerotterdam.org/wp-content/uploads/2025/09/Vie-de-quartier-Photo-Vacances-Hiver.jpg
END:VEVENT
END:VCALENDAR