BEGIN:VCALENDAR
VERSION:2.0
PRODID:-//Centre Culturel et Social Rotterdam - ECPv6.15.20//NONSGML v1.0//EN
CALSCALE:GREGORIAN
METHOD:PUBLISH
X-WR-CALNAME:Centre Culturel et Social Rotterdam
X-ORIGINAL-URL:https://centrerotterdam.org
X-WR-CALDESC:Évènements pour Centre Culturel et Social Rotterdam
REFRESH-INTERVAL;VALUE=DURATION:PT1H
X-Robots-Tag:noindex
X-PUBLISHED-TTL:PT1H
BEGIN:VTIMEZONE
TZID:Europe/Paris
BEGIN:DAYLIGHT
TZOFFSETFROM:+0100
TZOFFSETTO:+0200
TZNAME:CEST
DTSTART:20250330T010000
END:DAYLIGHT
BEGIN:STANDARD
TZOFFSETFROM:+0200
TZOFFSETTO:+0100
TZNAME:CET
DTSTART:20251026T010000
END:STANDARD
BEGIN:DAYLIGHT
TZOFFSETFROM:+0100
TZOFFSETTO:+0200
TZNAME:CEST
DTSTART:20260329T010000
END:DAYLIGHT
BEGIN:STANDARD
TZOFFSETFROM:+0200
TZOFFSETTO:+0100
TZNAME:CET
DTSTART:20261025T010000
END:STANDARD
BEGIN:DAYLIGHT
TZOFFSETFROM:+0100
TZOFFSETTO:+0200
TZNAME:CEST
DTSTART:20270328T010000
END:DAYLIGHT
BEGIN:STANDARD
TZOFFSETFROM:+0200
TZOFFSETTO:+0100
TZNAME:CET
DTSTART:20271031T010000
END:STANDARD
END:VTIMEZONE
BEGIN:VEVENT
DTSTART;TZID=Europe/Paris:20260427T140000
DTEND;TZID=Europe/Paris:20260427T180000
DTSTAMP:20260424T090248
CREATED:20250929T102110Z
LAST-MODIFIED:20260409T203256Z
UID:24281-1777298400-1777312800@centrerotterdam.org
SUMMARY:Après-midi dansante
DESCRIPTION:Au rythme des airs populaires de La Guinguette du Rhin\, rejoignez la piste et laissez-vous emporter par la musique !  Pauses gourmandes et ambiance conviviale assurées.  \n👉 Toutes les informations :\n\n\nLundi 27 avril\, faites le plein de danse et de bonne humeur au Bon Pasteur !
URL:https://centrerotterdam.org/evenement/apres-midi-dansante-2/
LOCATION:Salle Polyvalente du Bon Pasteur\, 12 boulevard Jean-Sébastien Bach\, Strasbourg\, 67000\, France
ATTACH;FMTTYPE=image/jpeg:https://centrerotterdam.org/wp-content/uploads/2025/09/Vie-de-quartier-Photo-The-dansant-2024_3.jpg
END:VEVENT
END:VCALENDAR