BEGIN:VCALENDAR
VERSION:2.0
PRODID:-//Centre Culturel et Social Rotterdam - ECPv6.15.20//NONSGML v1.0//EN
CALSCALE:GREGORIAN
METHOD:PUBLISH
X-WR-CALNAME:Centre Culturel et Social Rotterdam
X-ORIGINAL-URL:https://centrerotterdam.org
X-WR-CALDESC:Évènements pour Centre Culturel et Social Rotterdam
REFRESH-INTERVAL;VALUE=DURATION:PT1H
X-Robots-Tag:noindex
X-PUBLISHED-TTL:PT1H
BEGIN:VTIMEZONE
TZID:Europe/Paris
BEGIN:DAYLIGHT
TZOFFSETFROM:+0100
TZOFFSETTO:+0200
TZNAME:CEST
DTSTART:20250330T010000
END:DAYLIGHT
BEGIN:STANDARD
TZOFFSETFROM:+0200
TZOFFSETTO:+0100
TZNAME:CET
DTSTART:20251026T010000
END:STANDARD
BEGIN:DAYLIGHT
TZOFFSETFROM:+0100
TZOFFSETTO:+0200
TZNAME:CEST
DTSTART:20260329T010000
END:DAYLIGHT
BEGIN:STANDARD
TZOFFSETFROM:+0200
TZOFFSETTO:+0100
TZNAME:CET
DTSTART:20261025T010000
END:STANDARD
BEGIN:DAYLIGHT
TZOFFSETFROM:+0100
TZOFFSETTO:+0200
TZNAME:CEST
DTSTART:20270328T010000
END:DAYLIGHT
BEGIN:STANDARD
TZOFFSETFROM:+0200
TZOFFSETTO:+0100
TZNAME:CET
DTSTART:20271031T010000
END:STANDARD
END:VTIMEZONE
BEGIN:VEVENT
DTSTART;VALUE=DATE:20260607
DTEND;VALUE=DATE:20260608
DTSTAMP:20260424T111519
CREATED:20260225T182249Z
LAST-MODIFIED:20260318T120734Z
UID:25960-1780790400-1780876799@centrerotterdam.org
SUMMARY:Soirée musicale - Fête de quartier
DESCRIPTION:Le mois de juin s’annonce festif dans votre quartier\, avec des rendez-vous musicaux les dimanches 7\, 14 et\, naturellement\, le 21 juin pour la Fête de la musique ! 🎼🎉 La place Arnold vibrera au son des artistes locaux\, entre concerts en plein air et rencontres chaleureuses entre voisins autour de mélodies partagées ! 🎷🎶 \nℹ️ Évènement « Soirée musicale » : 📅 Dimanche 14 juin 2026\nℹ️ Évènement « Fête de la musique » : 📅 Dimanche 21 juin 2026 \nPlus d’informations à venir. \n \n  \n📸 La Fête de la musique en images (édition 2025) : \n \n 
URL:https://centrerotterdam.org/evenement/soiree-musicale-7-juin-2026/
LOCATION:Place Arnold\, Place Arnold\, Strasbourg\, 67000\, France
ATTACH;FMTTYPE=image/jpeg:https://centrerotterdam.org/wp-content/uploads/2026/02/Vie-de-quartier-Photos-evenements-Fete-de-la-musique-1.jpg
END:VEVENT
END:VCALENDAR