BEGIN:VCALENDAR
VERSION:2.0
PRODID:-//Centre Culturel et Social Rotterdam - ECPv6.15.20//NONSGML v1.0//EN
CALSCALE:GREGORIAN
METHOD:PUBLISH
X-WR-CALNAME:Centre Culturel et Social Rotterdam
X-ORIGINAL-URL:https://centrerotterdam.org
X-WR-CALDESC:Évènements pour Centre Culturel et Social Rotterdam
REFRESH-INTERVAL;VALUE=DURATION:PT1H
X-Robots-Tag:noindex
X-PUBLISHED-TTL:PT1H
BEGIN:VTIMEZONE
TZID:Europe/Paris
BEGIN:DAYLIGHT
TZOFFSETFROM:+0100
TZOFFSETTO:+0200
TZNAME:CEST
DTSTART:20250330T010000
END:DAYLIGHT
BEGIN:STANDARD
TZOFFSETFROM:+0200
TZOFFSETTO:+0100
TZNAME:CET
DTSTART:20251026T010000
END:STANDARD
BEGIN:DAYLIGHT
TZOFFSETFROM:+0100
TZOFFSETTO:+0200
TZNAME:CEST
DTSTART:20260329T010000
END:DAYLIGHT
BEGIN:STANDARD
TZOFFSETFROM:+0200
TZOFFSETTO:+0100
TZNAME:CET
DTSTART:20261025T010000
END:STANDARD
BEGIN:DAYLIGHT
TZOFFSETFROM:+0100
TZOFFSETTO:+0200
TZNAME:CEST
DTSTART:20270328T010000
END:DAYLIGHT
BEGIN:STANDARD
TZOFFSETFROM:+0200
TZOFFSETTO:+0100
TZNAME:CET
DTSTART:20271031T010000
END:STANDARD
END:VTIMEZONE
BEGIN:VEVENT
DTSTART;TZID=Europe/Paris:20260706T074500
DTEND;TZID=Europe/Paris:20260731T181500
DTSTAMP:20260424T122425
CREATED:20250929T120013Z
LAST-MODIFIED:20250929T120013Z
UID:24314-1783323900-1785521700@centrerotterdam.org
SUMMARY:Vacances d'été
DESCRIPTION:L’Accueil de Loisirs se transformera en un lieu magique et épanouissant pour les enfants\, inspiré par la saison 🌞😎: ateliers créatifs\, jeux de société\, bricolages\, cuisine\, animations thématiques\, grands jeux\, défis sportifs et sorties ! \nPlus d’informations à venir. \n\nInformations et inscriptions
URL:https://centrerotterdam.org/evenement/vacances-ete-2026/
LOCATION:École Élémentaire du Conseil des Quinze\, 2 rue de Douai\, Strasbourg\, 67000\, France
ATTACH;FMTTYPE=image/jpeg:https://centrerotterdam.org/wp-content/uploads/2025/09/Vie-de-quartier-Photo-Vacances-Ete.jpg
END:VEVENT
BEGIN:VEVENT
DTSTART;TZID=Europe/Paris:20260706T140000
DTEND;TZID=Europe/Paris:20260731T180000
DTSTAMP:20260424T122425
CREATED:20250929T111330Z
LAST-MODIFIED:20250929T111419Z
UID:24303-1783346400-1785520800@centrerotterdam.org
SUMMARY:Animations de rue
DESCRIPTION:En juillet\, vivez l’ambiance festive de la Cité Rotterdam avec des animations de rue chaque après-midi en plein air ! 🌞 \nPlus d’informations à venir.
URL:https://centrerotterdam.org/evenement/animations-de-rue-2026/
LOCATION:Espace vert entre les rues d’Ypres et de la Haye\, rue de la Haye\, Strasbourg\, 67000\, France
ATTACH;FMTTYPE=image/jpeg:https://centrerotterdam.org/wp-content/uploads/2025/08/Vie-de-quartier-Photos-evenements_Animations-de-rue.jpg
END:VEVENT
END:VCALENDAR