BEGIN:VCALENDAR
VERSION:2.0
PRODID:-//Centre Culturel et Social Rotterdam - ECPv6.15.20//NONSGML v1.0//EN
CALSCALE:GREGORIAN
METHOD:PUBLISH
X-ORIGINAL-URL:https://centrerotterdam.org
X-WR-CALDESC:Évènements pour Centre Culturel et Social Rotterdam
REFRESH-INTERVAL;VALUE=DURATION:PT1H
X-Robots-Tag:noindex
X-PUBLISHED-TTL:PT1H
BEGIN:VTIMEZONE
TZID:Europe/Paris
BEGIN:DAYLIGHT
TZOFFSETFROM:+0100
TZOFFSETTO:+0200
TZNAME:CEST
DTSTART:20240331T010000
END:DAYLIGHT
BEGIN:STANDARD
TZOFFSETFROM:+0200
TZOFFSETTO:+0100
TZNAME:CET
DTSTART:20241027T010000
END:STANDARD
BEGIN:DAYLIGHT
TZOFFSETFROM:+0100
TZOFFSETTO:+0200
TZNAME:CEST
DTSTART:20250330T010000
END:DAYLIGHT
BEGIN:STANDARD
TZOFFSETFROM:+0200
TZOFFSETTO:+0100
TZNAME:CET
DTSTART:20251026T010000
END:STANDARD
BEGIN:DAYLIGHT
TZOFFSETFROM:+0100
TZOFFSETTO:+0200
TZNAME:CEST
DTSTART:20260329T010000
END:DAYLIGHT
BEGIN:STANDARD
TZOFFSETFROM:+0200
TZOFFSETTO:+0100
TZNAME:CET
DTSTART:20261025T010000
END:STANDARD
END:VTIMEZONE
BEGIN:VEVENT
DTSTART;TZID=Europe/Paris:20250906T193000
DTEND;TZID=Europe/Paris:20250906T220000
DTSTAMP:20260424T155735
CREATED:20250924T124433Z
LAST-MODIFIED:20250925T125919Z
UID:24144-1757187000-1757196000@centrerotterdam.org
SUMMARY:Cinéma plein air
DESCRIPTION:Avant-première d’une aventure de quartier inoubliable : cinéma plein air à la Cité Rotterdam !\nLe samedi 6 septembre 2025\, notre quartier déroulera le tapis rouge à une soirée placée sous le signe du vivre-ensemble et du partage\, toutes générations confondues ! Les projecteurs s’allumeront dès 19h30 pour le début des festivités autour d’un barbecue et de surprises afin de régaler toutes les papilles dans la bonne humeur\, et d’assurer un espace de rencontre chaleureuse entre voisins. Nuit tombée\, l’espace vert entre les rues d’Ypres et de la Haye se transformera en salle de ciné à ciel ouvert sous les étoiles ! Installez-vous confortablement sur la place\, équipé de votre plaid où à même l’herbe comme un aventurier\, pour la projection de Spider-Man : New Generation à 22h\, un film d’animation plein d’action et de fun qui régalera petits et grands cinéphiles à tout âge. Pas besoin de billet\, l’entrée est libre et gratuite pour tous ! \nVenez nombreux partager ce moment fantastique et unique ! \n\nRetour en images : cinéma sous les étoiles\, la magie du partage et des rencontres
URL:https://centrerotterdam.org/evenement/cinema-plein-air-2025/
LOCATION:Espace vert entre les rues d’Ypres et de la Haye\, rue de la Haye\, Strasbourg\, 67000\, France
ATTACH;FMTTYPE=image/jpeg:https://centrerotterdam.org/wp-content/uploads/2025/09/Vie-de-quartier-Photo-cinema-plein-air.jpg
END:VEVENT
BEGIN:VEVENT
DTSTART;TZID=Europe/Paris:20250917T113000
DTEND;TZID=Europe/Paris:20250917T113000
DTSTAMP:20260424T155735
CREATED:20250924T134459Z
LAST-MODIFIED:20250925T125852Z
UID:24179-1758108600-1758108600@centrerotterdam.org
SUMMARY:Pique-nique de la rentrée
DESCRIPTION:Nous avons le plaisir de vous inviter à notre Pique-nique de la rentrée\, le mercredi 17 septembre 2025 à partir de 11h30\, sur l’aire de pique-nique du Parc de l’Orangerie (près de l’espace canin et du terrain de pétanque). \nC’est l’occasion idéale de se retrouver après l’été\, entre habitants\, adhérents et familles du quartier. Les enfants de l’Accueil de Loisirs seront également de la partie ! Au programme : animations en plein air\, espace ludothèque pour petits et grands\, et présentation des activités à venir dans une ambiance festive et conviviale. \nChacun est invité à apporter son repas à partager : toutes les spécialités sont les bienvenues pour célébrer la rentrée. Nous découvrirons ainsi les talents culinaires de chacun et profiterons d’un délicieux repas pris en plein air. Quelques tables seront à disposition\, mais pensez à prendre une couverture pour profiter confortablement de l’herbe\, ainsi que vos assiettes\, couverts et verres. Et surtout… n’oubliez pas votre bonne humeur et un brin de soleil dans votre panier ! \nNous avons hâte de vous retrouver pour ce moment de partage ensoleillé ! \n\nRetour en images : un pique-nique de retrouvailles pour de délicieux moments partagés
URL:https://centrerotterdam.org/evenement/pique-nique-de-la-rentree-2025/
LOCATION:Aire de pique-nique du parc de l’Orangerie\, Parc de l'Orangerie\, Strasbourg\, 67000\, France
ATTACH;FMTTYPE=image/jpeg:https://centrerotterdam.org/wp-content/uploads/2025/01/Vie-de-quartier-Photos-evenements_0011_Pique-nique.jpg
END:VEVENT
END:VCALENDAR