BEGIN:VCALENDAR
VERSION:2.0
PRODID:-//Centre Culturel et Social Rotterdam - ECPv6.15.20//NONSGML v1.0//EN
CALSCALE:GREGORIAN
METHOD:PUBLISH
X-WR-CALNAME:Centre Culturel et Social Rotterdam
X-ORIGINAL-URL:https://centrerotterdam.org
X-WR-CALDESC:Évènements pour Centre Culturel et Social Rotterdam
REFRESH-INTERVAL;VALUE=DURATION:PT1H
X-Robots-Tag:noindex
X-PUBLISHED-TTL:PT1H
BEGIN:VTIMEZONE
TZID:Europe/Paris
BEGIN:DAYLIGHT
TZOFFSETFROM:+0100
TZOFFSETTO:+0200
TZNAME:CEST
DTSTART:20240331T010000
END:DAYLIGHT
BEGIN:STANDARD
TZOFFSETFROM:+0200
TZOFFSETTO:+0100
TZNAME:CET
DTSTART:20241027T010000
END:STANDARD
BEGIN:DAYLIGHT
TZOFFSETFROM:+0100
TZOFFSETTO:+0200
TZNAME:CEST
DTSTART:20250330T010000
END:DAYLIGHT
BEGIN:STANDARD
TZOFFSETFROM:+0200
TZOFFSETTO:+0100
TZNAME:CET
DTSTART:20251026T010000
END:STANDARD
BEGIN:DAYLIGHT
TZOFFSETFROM:+0100
TZOFFSETTO:+0200
TZNAME:CEST
DTSTART:20260329T010000
END:DAYLIGHT
BEGIN:STANDARD
TZOFFSETFROM:+0200
TZOFFSETTO:+0100
TZNAME:CET
DTSTART:20261025T010000
END:STANDARD
END:VTIMEZONE
BEGIN:VEVENT
DTSTART;TZID=Europe/Paris:20251105T143000
DTEND;TZID=Europe/Paris:20251202T163000
DTSTAMP:20260424T133227
CREATED:20251015T150315Z
LAST-MODIFIED:20251015T151115Z
UID:24595-1762353000-1764693000@centrerotterdam.org
SUMMARY:Atelier seniors : sophrologie et gestion de la douleur
DESCRIPTION:Pour nos aînés\, plusieurs séances sont proposées afin de comprendre et gérer sa douleur\, puis de se relaxer grâce à la sophrologie. \nGratuit sur inscription\, dans la limite des places disponibles. \nℹ️ Toutes les informations :\n\nAtelier pour nos aînés : « Le bien-être par la sophrologie et la gestion de la douleur »
URL:https://centrerotterdam.org/evenement/atelier-seniors-sophrologie-gestion-de-la-douleur/
LOCATION:Maison de retraite Saint Joseph\, 9 rue d'Ypres\, Strasbourg\, 67000\, France
ATTACH;FMTTYPE=image/jpeg:https://centrerotterdam.org/wp-content/uploads/2025/10/Vie-de-quartier-Photo-Sophrologie.jpg
END:VEVENT
BEGIN:VEVENT
DTSTART;TZID=Europe/Paris:20251105T150000
DTEND;TZID=Europe/Paris:20251105T170000
DTSTAMP:20260424T133227
CREATED:20251029T182115Z
LAST-MODIFIED:20251117T160614Z
UID:24744-1762354800-1762362000@centrerotterdam.org
SUMMARY:Mix'Âges : Jeux de société
DESCRIPTION:Un rendez-vous mensuel entre les enfants de l’Accueil de Loisirs et les résidents de la Maison de Retraite Saint-Joseph\nJusqu’à la fin de l’année scolaire 2026\, les enfants de l’école élémentaire du Conseil des XV auront le plaisir de partager\, chaque premier mercredi du mois\, un moment de convivialité et d’échanges avec les résidents de la Maison de Retraite Saint-Joseph. \nCes rencontres intergénérationnelles “Mix’Âges” visent à créer des liens entre les générations à travers des activités ludiques\, créatives et festives\, tout au long de l’année autour de différentes thématiques selon les saisons.\nDe 15h à 17h\, enfants et séniors se retrouveront pour partager animations\, goûter et chants\, dans une ambiance chaleureuse et bienveillante\, au sein du lieu de vie de la Maison de Retraite. \n\n\n\n\n\n\nAu programme des rencontres “Mix’Âges” :\n\n\n\n\n\n\n\n\n\nMercredi 5 novembre\n Première rencontre : présentation des participants et après-midi autour de jeux de société pour faire connaissance.\nMercredi 26 novembre (en remplacement du premier mercredi de décembre)\n Atelier créatif : fabrication de petits sujets en pâte à sel pour décorer le sapin participatif du 10 décembre.\nMercredi 7 janvier\n Fête des Rois : création de couronnes et dégustation de la traditionnelle galette.\nMercredi 4 février\n Carnaval à la Maison de Retraite : défilé costumé\, chants et crêpes au menu !\nMercredi 4 mars\n Préparons le printemps : bricolages et décorations florales pour célébrer la belle saison.\nMercredi 1er avril\n Atelier de Pâques : créations printanières… et quelques poissons d’avril pour s’amuser !\nMercredi 6 mai\n Rencontre autour des animaux : atelier de médiation animale\, en compagnie des pensionnaires à quatre pattes de la maison.\nMercredi 3 juin\n Sortie de fin d’année : promenade au Parc de l’Orangerie\, suivie d’une pause gourmande autour d’une glace.\n\n\n\n\nMix’Âges : des mercredis de plaisir partagé entre générations !
URL:https://centrerotterdam.org/evenement/mixages-jeux-de-societe/
LOCATION:Maison de retraite Saint Joseph\, 9 rue d'Ypres\, Strasbourg\, 67000\, France
ATTACH;FMTTYPE=image/jpeg:https://centrerotterdam.org/wp-content/uploads/2025/10/Vie-de-quartier-Photos-evenements-MixAges-rencontre.jpg
END:VEVENT
BEGIN:VEVENT
DTSTART;TZID=Europe/Paris:20251110T160000
DTEND;TZID=Europe/Paris:20251128T180000
DTSTAMP:20260424T133227
CREATED:20251014T142645Z
LAST-MODIFIED:20251117T160642Z
UID:24574-1762790400-1764352800@centrerotterdam.org
SUMMARY:Collecte de jouets d'occasion
DESCRIPTION:Fais don de tes anciens jouets à la grande collecte !\nPour la cinquième année consécutive\, l’Accueil de Loisirs du Centre Rotterdam se transforme en point de collecte solidaire de jouets d’occasion du 10 au 28 novembre 2025\, à l’occasion de la Semaine Européenne de la Réduction des Déchets et de la collecte « Laisse parler ton cœur ». A l’approche des fêtes de fin d’année\, cet appel au don va permettre aux familles les plus modestes d’offrir des cadeaux à leurs enfants\, mais également de prolonger la durée de vie de nombreux jouets : c’est un geste en faveur de l’environnement et de l’entraide. 🫶 \nLa mise à disposition d’une grande hotte à collecte vous permettra de déposer vos jouets inutilisés à la condition qu’ils soient complets et en bon état : électriques\, électroniques\, en bois\, de construction\, jeux de société\, jeux vidéo\, trottinettes\, déguisements\, peluches\, poupées\, etc. C’est une occasion de faire le tri dans vos placards en leur offrant une seconde vie pour le plaisir d’autres enfants ! 🧸🚲🪀📚🎲 \nLes jouets seront ensuite confiés aux associations locales Carijou\, Emmaüs et Fédération de charité Caritas Alsace\, afin d’être triés\, testés\, complétés\, nettoyés et remis en état\, dans le but de les offrir aux familles les plus démunies\, ou revendus à prix solidaires. Les jouets ne pouvant pas être réutilisés de nature électrique ou électronique seront recyclés par Ecosystem. \nPoints de collecte : \n\nAccueil de Loisirs au 2 rue de Douai à Strasbourg : lundi\, mardi\, jeudi et vendredi de 16h à 18h\, et mercredi de 7h45 à 9h15 puis de 17h à 18h15\nAnnexe du Conseil des XV au 6 rue de Wallonie à Strasbourg : lundi\, mardi\, jeudi et vendredi de 16h à 18h\nBureau du Centre Rotterdam au 42 rue d’Ypres à Strasbourg : du lundi au vendredi de 9h à 12h\n\n\nFais don de tes anciens jouets à la grande collecte solidaire !
URL:https://centrerotterdam.org/evenement/collecte-jouets-occasion-2025/
LOCATION:École Élémentaire du Conseil des Quinze\, 2 rue de Douai\, Strasbourg\, 67000\, France
ATTACH;FMTTYPE=image/jpeg:https://centrerotterdam.org/wp-content/uploads/2025/10/Vie-de-quartier-Photos-evenements-Collecte-de-jouets.jpg
END:VEVENT
BEGIN:VEVENT
DTSTART;TZID=Europe/Paris:20251126T150000
DTEND;TZID=Europe/Paris:20251126T170000
DTSTAMP:20260424T133227
CREATED:20251029T182517Z
LAST-MODIFIED:20251217T105610Z
UID:24748-1764169200-1764176400@centrerotterdam.org
SUMMARY:Mix'Âges : Atelier pâte à sel
DESCRIPTION:Un rendez-vous mensuel entre les enfants de l’Accueil de Loisirs et les résidents de la Maison de Retraite Saint-Joseph\nJusqu’à la fin de l’année scolaire 2026\, les enfants de l’école élémentaire du Conseil des XV auront le plaisir de partager\, chaque premier mercredi du mois\, un moment de convivialité et d’échanges avec les résidents de la Maison de Retraite Saint-Joseph. \nCes rencontres intergénérationnelles “Mix’Âges” visent à créer des liens entre les générations à travers des activités ludiques\, créatives et festives\, tout au long de l’année autour de différentes thématiques selon les saisons.\nDe 15h à 17h\, enfants et séniors se retrouveront pour partager animations\, goûter et chants\, dans une ambiance chaleureuse et bienveillante\, au sein du lieu de vie de la Maison de Retraite. \n\n\n\n\n\n\nAu programme des rencontres “Mix’Âges” :\n\n\n\n\n\n\n\n\n\nMercredi 5 novembre\n Première rencontre : présentation des participants et après-midi autour de jeux de société pour faire connaissance.\nMercredi 26 novembre (en remplacement du premier mercredi de décembre)\n Atelier créatif : fabrication de petits sujets en pâte à sel pour décorer le sapin participatif du 10 décembre.\nMercredi 7 janvier\n Fête des Rois : création de couronnes et dégustation de la traditionnelle galette.\nMercredi 4 février\n Carnaval à la Maison de Retraite : défilé costumé\, chants et crêpes au menu !\nMercredi 4 mars\n Préparons le printemps : bricolages et décorations florales pour célébrer la belle saison.\nMercredi 1er avril\n Atelier de Pâques : créations printanières… et quelques poissons d’avril pour s’amuser !\nMercredi 6 mai\n Rencontre autour des animaux : atelier de médiation animale\, en compagnie des pensionnaires à quatre pattes de la maison.\nMercredi 3 juin\n Sortie de fin d’année : promenade au Parc de l’Orangerie\, suivie d’une pause gourmande autour d’une glace.\n\n\n\n\nMix’Âges : des mercredis de plaisir partagé entre générations !
URL:https://centrerotterdam.org/evenement/mixages-atelier-pate-a-sel/
LOCATION:Maison de retraite Saint Joseph\, 9 rue d'Ypres\, Strasbourg\, 67000\, France
ATTACH;FMTTYPE=image/jpeg:https://centrerotterdam.org/wp-content/uploads/2025/12/Vie-de-quartier-Photo-evenement-MixAges-Bredele-et-chants.jpg
END:VEVENT
END:VCALENDAR