BEGIN:VCALENDAR
VERSION:2.0
PRODID:-//Centre Culturel et Social Rotterdam - ECPv6.15.20//NONSGML v1.0//EN
CALSCALE:GREGORIAN
METHOD:PUBLISH
X-ORIGINAL-URL:https://centrerotterdam.org
X-WR-CALDESC:Évènements pour Centre Culturel et Social Rotterdam
REFRESH-INTERVAL;VALUE=DURATION:PT1H
X-Robots-Tag:noindex
X-PUBLISHED-TTL:PT1H
BEGIN:VTIMEZONE
TZID:Europe/Paris
BEGIN:DAYLIGHT
TZOFFSETFROM:+0100
TZOFFSETTO:+0200
TZNAME:CEST
DTSTART:20240331T010000
END:DAYLIGHT
BEGIN:STANDARD
TZOFFSETFROM:+0200
TZOFFSETTO:+0100
TZNAME:CET
DTSTART:20241027T010000
END:STANDARD
BEGIN:DAYLIGHT
TZOFFSETFROM:+0100
TZOFFSETTO:+0200
TZNAME:CEST
DTSTART:20250330T010000
END:DAYLIGHT
BEGIN:STANDARD
TZOFFSETFROM:+0200
TZOFFSETTO:+0100
TZNAME:CET
DTSTART:20251026T010000
END:STANDARD
BEGIN:DAYLIGHT
TZOFFSETFROM:+0100
TZOFFSETTO:+0200
TZNAME:CEST
DTSTART:20260329T010000
END:DAYLIGHT
BEGIN:STANDARD
TZOFFSETFROM:+0200
TZOFFSETTO:+0100
TZNAME:CET
DTSTART:20261025T010000
END:STANDARD
BEGIN:DAYLIGHT
TZOFFSETFROM:+0100
TZOFFSETTO:+0200
TZNAME:CEST
DTSTART:20270328T010000
END:DAYLIGHT
BEGIN:STANDARD
TZOFFSETFROM:+0200
TZOFFSETTO:+0100
TZNAME:CET
DTSTART:20271031T010000
END:STANDARD
END:VTIMEZONE
BEGIN:VEVENT
DTSTART;VALUE=DATE:20251222
DTEND;VALUE=DATE:20260105
DTSTAMP:20260424T111756
CREATED:20250929T112829Z
LAST-MODIFIED:20250929T112829Z
UID:24305-1766361600-1767571199@centrerotterdam.org
SUMMARY:Vacances de Noël - Fermeture du CCSR
DESCRIPTION:Fermeture du CCSR durant les vacances de Noël\nNos équipes vous souhaitent de passer de merveilleuses fêtes de fin d’année 🎄✨🥳\, avec hâte de vous retrouver à partir du lundi 5 janvier 2026 !
URL:https://centrerotterdam.org/evenement/vacances-de-noel-2025/
ATTACH;FMTTYPE=image/jpeg:https://centrerotterdam.org/wp-content/uploads/2025/09/Vie-de-quartier-Photo-Vacances-de-Noel.jpg
END:VEVENT
BEGIN:VEVENT
DTSTART;TZID=Europe/Paris:20260107T150000
DTEND;TZID=Europe/Paris:20260107T170000
DTSTAMP:20260424T111756
CREATED:20251029T182705Z
LAST-MODIFIED:20251217T105643Z
UID:24750-1767798000-1767805200@centrerotterdam.org
SUMMARY:Mix'Âges : Fête des rois
DESCRIPTION:Un rendez-vous mensuel entre les enfants de l’Accueil de Loisirs et les résidents de la Maison de Retraite Saint-Joseph\nJusqu’à la fin de l’année scolaire 2026\, les enfants de l’école élémentaire du Conseil des XV auront le plaisir de partager\, chaque premier mercredi du mois\, un moment de convivialité et d’échanges avec les résidents de la Maison de Retraite Saint-Joseph. \nCes rencontres intergénérationnelles “Mix’Âges” visent à créer des liens entre les générations à travers des activités ludiques\, créatives et festives\, tout au long de l’année autour de différentes thématiques selon les saisons.\nDe 15h à 17h\, enfants et séniors se retrouveront pour partager animations\, goûter et chants\, dans une ambiance chaleureuse et bienveillante\, au sein du lieu de vie de la Maison de Retraite. \n\n\n\n\n\n\nAu programme des rencontres “Mix’Âges” :\n\n\n\n\n\n\n\n\n\nMercredi 5 novembre\n Première rencontre : présentation des participants et après-midi autour de jeux de société pour faire connaissance.\nMercredi 26 novembre (en remplacement du premier mercredi de décembre)\n Atelier créatif : fabrication de petits sujets en pâte à sel pour décorer le sapin participatif du 10 décembre.\nMercredi 7 janvier\n Fête des Rois : création de couronnes et dégustation de la traditionnelle galette.\nMercredi 4 février\n Carnaval à la Maison de Retraite : défilé costumé\, chants et crêpes au menu !\nMercredi 4 mars\n Préparons le printemps : bricolages et décorations florales pour célébrer la belle saison.\nMercredi 1er avril\n Atelier de Pâques : créations printanières… et quelques poissons d’avril pour s’amuser !\nMercredi 6 mai\n Rencontre autour des animaux : atelier de médiation animale\, en compagnie des pensionnaires à quatre pattes de la maison.\nMercredi 3 juin\n Sortie de fin d’année : promenade au Parc de l’Orangerie\, suivie d’une pause gourmande autour d’une glace.\n\n\n\n\nMix’Âges : des mercredis de plaisir partagé entre générations !
URL:https://centrerotterdam.org/evenement/mixages-fete-des-rois/
LOCATION:Maison de retraite Saint Joseph\, 9 rue d'Ypres\, Strasbourg\, 67000\, France
ATTACH;FMTTYPE=image/jpeg:https://centrerotterdam.org/wp-content/uploads/2025/12/Vie-de-quartier-Photo-evenement-MixAges-Bredele-et-chants.jpg
END:VEVENT
BEGIN:VEVENT
DTSTART;TZID=Europe/Paris:20260110T100000
DTEND;TZID=Europe/Paris:20260110T130000
DTSTAMP:20260424T111756
CREATED:20250925T120959Z
LAST-MODIFIED:20251201T150252Z
UID:24215-1768039200-1768050000@centrerotterdam.org
SUMMARY:Collecte de sapins
DESCRIPTION:Où vais-je déposer mon sapin après les fêtes ? 🎄♻️ La collecte aura lieu sur la place du Conseil des XV le 10 janvier 2026 de 10h à 13h lors d’une rencontre gourmande et conviviale entre voisins ! \nToutes les informations : \n\n\nMon beau sapin 2026 : Après les fêtes\, le compost ! \n\n 
URL:https://centrerotterdam.org/evenement/collecte-de-sapins-2026/
LOCATION:Place du Conseil des Quinze\, Pl. du Conseil des 15\, Strasbourg\, 67000\, France
ATTACH;FMTTYPE=image/jpeg:https://centrerotterdam.org/wp-content/uploads/2025/01/Vie-de-quartier-Photos-evenements_0006_Collecte-de-sapins.jpg
END:VEVENT
END:VCALENDAR