BEGIN:VCALENDAR
VERSION:2.0
PRODID:-//Centre Culturel et Social Rotterdam - ECPv6.15.20//NONSGML v1.0//EN
CALSCALE:GREGORIAN
METHOD:PUBLISH
X-ORIGINAL-URL:https://centrerotterdam.org
X-WR-CALDESC:Évènements pour Centre Culturel et Social Rotterdam
REFRESH-INTERVAL;VALUE=DURATION:PT1H
X-Robots-Tag:noindex
X-PUBLISHED-TTL:PT1H
BEGIN:VTIMEZONE
TZID:Europe/Paris
BEGIN:DAYLIGHT
TZOFFSETFROM:+0100
TZOFFSETTO:+0200
TZNAME:CEST
DTSTART:20250330T010000
END:DAYLIGHT
BEGIN:STANDARD
TZOFFSETFROM:+0200
TZOFFSETTO:+0100
TZNAME:CET
DTSTART:20251026T010000
END:STANDARD
BEGIN:DAYLIGHT
TZOFFSETFROM:+0100
TZOFFSETTO:+0200
TZNAME:CEST
DTSTART:20260329T010000
END:DAYLIGHT
BEGIN:STANDARD
TZOFFSETFROM:+0200
TZOFFSETTO:+0100
TZNAME:CET
DTSTART:20261025T010000
END:STANDARD
BEGIN:DAYLIGHT
TZOFFSETFROM:+0100
TZOFFSETTO:+0200
TZNAME:CEST
DTSTART:20270328T010000
END:DAYLIGHT
BEGIN:STANDARD
TZOFFSETFROM:+0200
TZOFFSETTO:+0100
TZNAME:CET
DTSTART:20271031T010000
END:STANDARD
END:VTIMEZONE
BEGIN:VEVENT
DTSTART;TZID=Europe/Paris:20260506T150000
DTEND;TZID=Europe/Paris:20260506T170000
DTSTAMP:20260424T090426
CREATED:20251029T184112Z
LAST-MODIFIED:20251117T160908Z
UID:24758-1778079600-1778086800@centrerotterdam.org
SUMMARY:Mix'Âges : Rencontre autour des animaux
DESCRIPTION:Un rendez-vous mensuel entre les enfants de l’Accueil de Loisirs et les résidents de la Maison de Retraite Saint-Joseph\nJusqu’à la fin de l’année scolaire 2026\, les enfants de l’école élémentaire du Conseil des XV auront le plaisir de partager\, chaque premier mercredi du mois\, un moment de convivialité et d’échanges avec les résidents de la Maison de Retraite Saint-Joseph. \nCes rencontres intergénérationnelles “Mix’Âges” visent à créer des liens entre les générations à travers des activités ludiques\, créatives et festives\, tout au long de l’année autour de différentes thématiques selon les saisons.\nDe 15h à 17h\, enfants et séniors se retrouveront pour partager animations\, goûter et chants\, dans une ambiance chaleureuse et bienveillante\, au sein du lieu de vie de la Maison de Retraite. \n\n\n\n\n\n\nAu programme des rencontres “Mix’Âges” :\n\n\n\n\n\n\n\n\n\nMercredi 5 novembre\n Première rencontre : présentation des participants et après-midi autour de jeux de société pour faire connaissance.\nMercredi 26 novembre (en remplacement du premier mercredi de décembre)\n Atelier créatif : fabrication de petits sujets en pâte à sel pour décorer le sapin participatif du 10 décembre.\nMercredi 7 janvier\n Fête des Rois : création de couronnes et dégustation de la traditionnelle galette.\nMercredi 4 février\n Carnaval à la Maison de Retraite : défilé costumé\, chants et crêpes au menu !\nMercredi 4 mars\n Préparons le printemps : bricolages et décorations florales pour célébrer la belle saison.\nMercredi 1er avril\n Atelier de Pâques : créations printanières… et quelques poissons d’avril pour s’amuser !\nMercredi 6 mai\n Rencontre autour des animaux : atelier de médiation animale\, en compagnie des pensionnaires à quatre pattes de la maison.\nMercredi 3 juin\n Sortie de fin d’année : promenade au Parc de l’Orangerie\, suivie d’une pause gourmande autour d’une glace.\n\n\n\n\nMix’Âges : des mercredis de plaisir partagé entre générations !
URL:https://centrerotterdam.org/evenement/mixages-rencontre-autour-des-animaux/
LOCATION:Maison de retraite Saint Joseph\, 9 rue d'Ypres\, Strasbourg\, 67000\, France
ATTACH;FMTTYPE=image/jpeg:https://centrerotterdam.org/wp-content/uploads/2025/10/Vie-de-quartier-Photos-evenements-MixAges-rencontre.jpg
END:VEVENT
BEGIN:VEVENT
DTSTART;TZID=Europe/Paris:20260510T084000
DTEND;TZID=Europe/Paris:20260510T084000
DTSTAMP:20260424T090426
CREATED:20260421T112052Z
LAST-MODIFIED:20260421T112613Z
UID:26424-1778402400-1778402400@centrerotterdam.org
SUMMARY:Tous en course !
DESCRIPTION:Rejoignez nos équipes aux couleurs du Centre Rotterdam \, à l’occasion des Courses de Strasbourg le dimanche 10 mai 2026 !  \nNos deux équipes n’attendent que vous : \n Le groupe enfants (10-11 ans)\nCourse adaptée de 1\,6 km\nDe l’Université aux Grandes Arcades\n8h40 \n Le groupe « marche »\nMarche conviviale de 5 km\nDe l’Université à l’Europe\n9h20 \n Inscriptions jusqu’au 24 avril 2026 ! \n clshrotterdam@free.fr\n 03 88 41 18 63 \n \n\n« Tous en course ! » : rejoins ton équipe aux couleurs du CCSR le 10 mai \n\n 
URL:https://centrerotterdam.org/evenement/tous-en-course-2026/
LOCATION:Rue de l’Université\, rue de l'Université\, Strasbourg\, 67000\, France
ATTACH;FMTTYPE=image/jpeg:https://centrerotterdam.org/wp-content/uploads/2026/04/Vie-de-quartier-Photo-evenement-Tous-en-course_Courses-de-Strasbourg.jpg
END:VEVENT
BEGIN:VEVENT
DTSTART;TZID=Europe/Paris:20260517T130000
DTEND;TZID=Europe/Paris:20260517T180000
DTSTAMP:20260424T090426
CREATED:20250929T103357Z
LAST-MODIFIED:20260407T201057Z
UID:24284-1779022800-1779040800@centrerotterdam.org
SUMMARY:Ludimanche
DESCRIPTION:Que vous soyez joueur occasionnel ou passionné\, en solo ou en famille\, entre amis ou entre voisins\, venez jouer\, découvrir et partager des moments mémorables d’aventure ludique\, il y en aura pour tous les âges et tous les niveaux. 🎲 Jeux de société\, grands jeux en bois\, tournois\, prototypes\, puzzle participatif\, coin petite enfance\, espace maquillage et coloriage\, tombola et surprises au programme pour petits et grands joueurs : prenez place autour de la table et entrez dans la partie !  \n👉 En savoir plus :\n\nLudimanche : entrez dans la partie grandeur nature ! \n\n👉 L’affiche :\n \n📸 Notre dernière édition de Ludimanche (2025) en images :
URL:https://centrerotterdam.org/evenement/ludimanche-2026/
LOCATION:Aire de pique-nique du parc de l’Orangerie\, Parc de l'Orangerie\, Strasbourg\, 67000\, France
ATTACH;FMTTYPE=image/jpeg:https://centrerotterdam.org/wp-content/uploads/2025/09/Vie-de-quartier-Photo-Ludimanche-2025.jpg
END:VEVENT
BEGIN:VEVENT
DTSTART;TZID=Europe/Paris:20260527T140000
DTEND;TZID=Europe/Paris:20260527T170000
DTSTAMP:20260424T090426
CREATED:20250929T104214Z
LAST-MODIFIED:20260414T203439Z
UID:24286-1779890400-1779901200@centrerotterdam.org
SUMMARY:Vélo Cité
DESCRIPTION:Cette après-midi festive et gratuite invite petits et grands à célébrer le vélo à travers un parcours ludique\, des ateliers créatifs\, des animations et des temps de partage. Entre réparations\, jeux\, sensibilisation et découvertes\, chacun pourra apprendre\, s’amuser et (re)prendre goût au vélo dans une ambiance conviviale et familiale ! 🚲✨ \nOuverte à tous\, pour tous les âges ! \n👉 Toutes les informations :\n\nVélo Cité 2026 : ateliers\, jeux\, rencontres et plaisir de rouler pour tous ! \n\n 
URL:https://centrerotterdam.org/evenement/velo-cite-2026/
LOCATION:École Élémentaire du Conseil des Quinze\, 2 rue de Douai\, Strasbourg\, 67000\, France
ATTACH;FMTTYPE=image/jpeg:https://centrerotterdam.org/wp-content/uploads/2025/09/Vie-de-quartier-Photo-Velo-Cite-2023.jpg
END:VEVENT
END:VCALENDAR